BEGIN:VCALENDAR
VERSION:2.0
PRODID:-//Gemeinschaftsschule Krähenfeld - ECPv6.15.20//NONSGML v1.0//EN
CALSCALE:GREGORIAN
METHOD:PUBLISH
X-ORIGINAL-URL:https://xn--ggs-krhenfeld-gfb.de
X-WR-CALDESC:Veranstaltungen für Gemeinschaftsschule Krähenfeld
REFRESH-INTERVAL;VALUE=DURATION:PT1H
X-Robots-Tag:noindex
X-PUBLISHED-TTL:PT1H
BEGIN:VTIMEZONE
TZID:UTC
BEGIN:STANDARD
TZOFFSETFROM:+0000
TZOFFSETTO:+0000
TZNAME:UTC
DTSTART:20250101T000000
END:STANDARD
END:VTIMEZONE
BEGIN:VEVENT
DTSTART;VALUE=DATE:20260501
DTEND;VALUE=DATE:20260502
DTSTAMP:20260420T040558
CREATED:20260225T103101Z
LAST-MODIFIED:20260225T103101Z
UID:981-1777593600-1777679999@xn--ggs-krhenfeld-gfb.de
SUMMARY:Tag der Arbeit
DESCRIPTION:Feiertag – KEINE Schule
URL:https://xn--ggs-krhenfeld-gfb.de/event/tag-der-arbeit/
END:VEVENT
BEGIN:VEVENT
DTSTART;VALUE=DATE:20260512
DTEND;VALUE=DATE:20260513
DTSTAMP:20260420T040558
CREATED:20260225T103158Z
LAST-MODIFIED:20260225T103158Z
UID:983-1778544000-1778630399@xn--ggs-krhenfeld-gfb.de
SUMMARY:Sportfest
DESCRIPTION:
URL:https://xn--ggs-krhenfeld-gfb.de/event/sportfest/
END:VEVENT
BEGIN:VEVENT
DTSTART;VALUE=DATE:20260514
DTEND;VALUE=DATE:20260515
DTSTAMP:20260420T040558
CREATED:20260225T103301Z
LAST-MODIFIED:20260225T103301Z
UID:985-1778716800-1778803199@xn--ggs-krhenfeld-gfb.de
SUMMARY:Christi Himmelfahrt
DESCRIPTION:Feiertag – KEINE Schule
URL:https://xn--ggs-krhenfeld-gfb.de/event/christi-himmelfahrt/
END:VEVENT
BEGIN:VEVENT
DTSTART;VALUE=DATE:20260515
DTEND;VALUE=DATE:20260516
DTSTAMP:20260420T040558
CREATED:20260225T103344Z
LAST-MODIFIED:20260225T103344Z
UID:987-1778803200-1778889599@xn--ggs-krhenfeld-gfb.de
SUMMARY:Beweglicher Feiertag
DESCRIPTION:KEINE Schule
URL:https://xn--ggs-krhenfeld-gfb.de/event/beweglicher-feiertag/
END:VEVENT
BEGIN:VEVENT
DTSTART;VALUE=DATE:20260525
DTEND;VALUE=DATE:20260526
DTSTAMP:20260420T040558
CREATED:20260225T103437Z
LAST-MODIFIED:20260225T103437Z
UID:989-1779667200-1779753599@xn--ggs-krhenfeld-gfb.de
SUMMARY:Pfingstmontag
DESCRIPTION:Feiertag – KEINE Schule
URL:https://xn--ggs-krhenfeld-gfb.de/event/pfingstmontag/
END:VEVENT
BEGIN:VEVENT
DTSTART;VALUE=DATE:20260526
DTEND;VALUE=DATE:20260527
DTSTAMP:20260420T040558
CREATED:20260225T103511Z
LAST-MODIFIED:20260225T103511Z
UID:991-1779753600-1779839999@xn--ggs-krhenfeld-gfb.de
SUMMARY:Ferientag
DESCRIPTION:KEINE Schule
URL:https://xn--ggs-krhenfeld-gfb.de/event/ferientag/
END:VEVENT
END:VCALENDAR