BEGIN:VCALENDAR
VERSION:2.0
PRODID:-//Gemeinschaftsschule Krähenfeld - ECPv6.15.20//NONSGML v1.0//EN
CALSCALE:GREGORIAN
METHOD:PUBLISH
X-WR-CALNAME:Gemeinschaftsschule Krähenfeld
X-ORIGINAL-URL:https://xn--ggs-krhenfeld-gfb.de
X-WR-CALDESC:Veranstaltungen für Gemeinschaftsschule Krähenfeld
REFRESH-INTERVAL;VALUE=DURATION:PT1H
X-Robots-Tag:noindex
X-PUBLISHED-TTL:PT1H
BEGIN:VTIMEZONE
TZID:UTC
BEGIN:STANDARD
TZOFFSETFROM:+0000
TZOFFSETTO:+0000
TZNAME:UTC
DTSTART:20250101T000000
END:STANDARD
END:VTIMEZONE
BEGIN:VEVENT
DTSTART;VALUE=DATE:20260604
DTEND;VALUE=DATE:20260605
DTSTAMP:20260420T053200
CREATED:20260225T103558Z
LAST-MODIFIED:20260225T103558Z
UID:993-1780531200-1780617599@xn--ggs-krhenfeld-gfb.de
SUMMARY:Fronleichnam
DESCRIPTION:KEINE Schule
URL:https://xn--ggs-krhenfeld-gfb.de/event/fronleichnam/
END:VEVENT
BEGIN:VEVENT
DTSTART;TZID=UTC:20260605T081500
DTEND;TZID=UTC:20260605T114500
DTSTAMP:20260420T053200
CREATED:20260409T022455Z
LAST-MODIFIED:20260409T022455Z
UID:1107-1780647300-1780659900@xn--ggs-krhenfeld-gfb.de
SUMMARY:Sponsorenlauf
DESCRIPTION:siehe Sponsorenlauf \nAchtung: Der Ganztag bleibt an diesem Tag geschlossen.
URL:https://xn--ggs-krhenfeld-gfb.de/event/sponsorenlauf/
END:VEVENT
BEGIN:VEVENT
DTSTART;TZID=UTC:20260608T100000
DTEND;TZID=UTC:20260608T120000
DTSTAMP:20260420T053200
CREATED:20260409T022116Z
LAST-MODIFIED:20260409T022322Z
UID:1100-1780912800-1780920000@xn--ggs-krhenfeld-gfb.de
SUMMARY:Radfahrprüfung Klasse 4a\, 4b\, 4c
DESCRIPTION:Unterrichtsschluss für Klasse 3 am Standort Horkesgath ist 09:45 Uhr
URL:https://xn--ggs-krhenfeld-gfb.de/event/radfahrpruefung-klasse-4a-4b-4c/
END:VEVENT
BEGIN:VEVENT
DTSTART;TZID=UTC:20260609T100000
DTEND;TZID=UTC:20260609T120000
DTSTAMP:20260420T053200
CREATED:20260409T022228Z
LAST-MODIFIED:20260409T022228Z
UID:1102-1780999200-1781006400@xn--ggs-krhenfeld-gfb.de
SUMMARY:Radfahrprüfung Klasse 4f\, 4g
DESCRIPTION:Unterrichtsschluss Klasse 1\, 2\, 3 am Standort Kempener Allee um 09:45 Uhr
URL:https://xn--ggs-krhenfeld-gfb.de/event/radfahrpruefung-klasse-4f-4g/
END:VEVENT
END:VCALENDAR